BEGIN:VCALENDAR
VERSION:2.0
PRODID:-//Plone.org//NONSGML plone.app.event//EN
X-WR-TIMEZONE:Brazil/East
BEGIN:VEVENT
SUMMARY:CONGRESSO DE JOVENS DA I.A.S.D DISTRITO DO BAIRRO GOIÁ
DTSTART;TZID=Brazil/East;VALUE=DATE-TIME:20181124T070000
DTEND;TZID=Brazil/East;VALUE=DATE-TIME:20181124T170000
DTSTAMP;VALUE=DATE-TIME:20260420T185419Z
UID:34ea9024a27642098f35ac720e0d78bc@www.goiania.go.leg.br
CONTACT:VEREADOR CABO SENNA
CREATED;VALUE=DATE-TIME:20180815T150632Z
LAST-MODIFIED;VALUE=DATE-TIME:20180815T150737Z
LOCATION:AUDITÓRIO JAIME CÂMARA
URL:https://www.goiania.go.leg.br/sala-de-imprensa/eventos/congresso-de-jo
 vens-da-i-a-s-d-distrito-do-bairro-goia
END:VEVENT
BEGIN:VTIMEZONE
TZID:Brazil/East
X-LIC-LOCATION:Brazil/East
BEGIN:DAYLIGHT
DTSTART;VALUE=DATE-TIME:20181021T010000
TZNAME:BRST
TZOFFSETFROM:-0300
TZOFFSETTO:-0200
END:DAYLIGHT
END:VTIMEZONE
END:VCALENDAR
