BEGIN:VCALENDAR
VERSION:2.0
PRODID:-//Plone.org//NONSGML plone.app.event//EN
X-WR-TIMEZONE:Brazil/East
BEGIN:VEVENT
SUMMARY:CONGRESSO DA IGREJA ADVENTISTA DO 7º DIA.
DTSTART;TZID=Brazil/East;VALUE=DATE-TIME:20240810T090000
DTEND;TZID=Brazil/East;VALUE=DATE-TIME:20240810T180000
DTSTAMP;VALUE=DATE-TIME:20260420T021025Z
UID:b594a0f1b6f747f4984c4e8dd835ab08@www.goiania.go.leg.br
CONTACT:VEREADOR CABO SENNA
CREATED;VALUE=DATE-TIME:20240618T140926Z
LAST-MODIFIED;VALUE=DATE-TIME:20240618T140954Z
LOCATION:AUDITÓRIO JAIME CÂMARA
URL:https://www.goiania.go.leg.br/sala-de-imprensa/eventos/congresso-da-ig
 reja-adventista-do-7o-dia
END:VEVENT
BEGIN:VTIMEZONE
TZID:Brazil/East
X-LIC-LOCATION:Brazil/East
BEGIN:STANDARD
DTSTART;VALUE=DATE-TIME:20240217T230000
TZNAME:BRT
TZOFFSETFROM:-0200
TZOFFSETTO:-0300
END:STANDARD
END:VTIMEZONE
END:VCALENDAR
