BEGIN:VCALENDAR
VERSION:2.0
PRODID:-//Plone.org//NONSGML plone.app.event//EN
X-WR-TIMEZONE:Brazil/East
BEGIN:VEVENT
SUMMARY:CONFRATERNIZAÇÃO DE FINAL DE ANO DO COLÉGIO ESTADUAL DEPUTADO J
 OSÉ LUCIANO.
DTSTART;TZID=Brazil/East;VALUE=DATE-TIME:20181214T183000
DTEND;TZID=Brazil/East;VALUE=DATE-TIME:20181214T220000
DTSTAMP;VALUE=DATE-TIME:20260420T190023Z
UID:4f9b68c1291549558c640269f344bf0e@www.goiania.go.leg.br
CONTACT:VEREADOR JAIME CÂMARA
CREATED;VALUE=DATE-TIME:20181025T133541Z
LAST-MODIFIED;VALUE=DATE-TIME:20181025T133548Z
LOCATION:AUDITÓRIO JAIME CÂMARA
URL:https://www.goiania.go.leg.br/sala-de-imprensa/eventos/confraternizaca
 o-de-final-de-ano-do-colegio-estadual-deputado-jose-luciano
END:VEVENT
BEGIN:VTIMEZONE
TZID:Brazil/East
X-LIC-LOCATION:Brazil/East
BEGIN:DAYLIGHT
DTSTART;VALUE=DATE-TIME:20181021T010000
TZNAME:BRST
TZOFFSETFROM:-0300
TZOFFSETTO:-0200
END:DAYLIGHT
END:VTIMEZONE
END:VCALENDAR
