BEGIN:VCALENDAR
VERSION:2.0
PRODID:-//Plone.org//NONSGML plone.app.event//EN
X-WR-TIMEZONE:Brazil/East
BEGIN:VEVENT
SUMMARY:CONFRATERNIZAÇÃO COM PRESTADORES DE SERVIÇOS DA CASA.
DTSTART;TZID=Brazil/East;VALUE=DATE-TIME:20191219T130000
DTEND;TZID=Brazil/East;VALUE=DATE-TIME:20191219T150000
DTSTAMP;VALUE=DATE-TIME:20260420T172457Z
UID:8f689db576c04237a86d4efa94e5514c@www.goiania.go.leg.br
CONTACT:VEREADORA DRA. CRISTINA LOPES AFONSO
CREATED;VALUE=DATE-TIME:20191206T134454Z
LAST-MODIFIED;VALUE=DATE-TIME:20191217T105810Z
LOCATION:SALA DE REUNIÃO DA PRESIDÊNCIA
URL:https://www.goiania.go.leg.br/sala-de-imprensa/eventos/confraternizaca
 o-com-prestadores-de-servicos-da-casa
END:VEVENT
BEGIN:VTIMEZONE
TZID:Brazil/East
X-LIC-LOCATION:Brazil/East
BEGIN:DAYLIGHT
DTSTART;VALUE=DATE-TIME:20191020T010000
TZNAME:BRST
TZOFFSETFROM:-0300
TZOFFSETTO:-0200
END:DAYLIGHT
END:VTIMEZONE
END:VCALENDAR
