BEGIN:VCALENDAR
VERSION:2.0
PRODID:-//Plone.org//NONSGML plone.app.event//EN
X-WR-TIMEZONE:Brazil/East
BEGIN:VEVENT
SUMMARY:CONFRATERNIZAÇÃO COM AS MULHERES HOMENAGEADAS NA SESSÃO ESPECIA
 L.
DTSTART;TZID=Brazil/East;VALUE=DATE-TIME:20200305T080000
DTEND;TZID=Brazil/East;VALUE=DATE-TIME:20200305T120000
DTSTAMP;VALUE=DATE-TIME:20260420T172550Z
UID:82c711afe5414051bf6e6e352bd184fb@www.goiania.go.leg.br
CONTACT:VEREADOR DR. PAULO DAHER
CREATED;VALUE=DATE-TIME:20200305T215808Z
LAST-MODIFIED;VALUE=DATE-TIME:20200305T215839Z
LOCATION:SALA DE REUNIÃO DAS COMISSÕES
URL:https://www.goiania.go.leg.br/sala-de-imprensa/eventos/confraternizaca
 o-com-as-mulheres-homenageadas-na-sessao-especial
END:VEVENT
BEGIN:VTIMEZONE
TZID:Brazil/East
X-LIC-LOCATION:Brazil/East
BEGIN:STANDARD
DTSTART;VALUE=DATE-TIME:20200215T230000
TZNAME:BRT
TZOFFSETFROM:-0200
TZOFFSETTO:-0300
END:STANDARD
END:VTIMEZONE
END:VCALENDAR
