BEGIN:VCALENDAR
VERSION:2.0
PRODID:-//Plone.org//NONSGML plone.app.event//EN
X-WR-TIMEZONE:Brazil/East
BEGIN:VEVENT
SUMMARY:CONFERÊNCIA "FILHOS DO MANDAMENTO".
DTSTART;TZID=Brazil/East;VALUE=DATE-TIME:20190216T140000
DTEND;TZID=Brazil/East;VALUE=DATE-TIME:20190216T220000
DTSTAMP;VALUE=DATE-TIME:20260420T172454Z
UID:b46a2f0d78974acaa9d87a5f39b75c4d@www.goiania.go.leg.br
CONTACT:VEREADOR JAIR DIAMANTINO
CREATED;VALUE=DATE-TIME:20190205T100440Z
LAST-MODIFIED;VALUE=DATE-TIME:20190205T100445Z
LOCATION:AUDITÓRIO JAIME CÂMARA
URL:https://www.goiania.go.leg.br/sala-de-imprensa/eventos/conferencia-fil
 hos-do-mandamento
END:VEVENT
BEGIN:VTIMEZONE
TZID:Brazil/East
X-LIC-LOCATION:Brazil/East
BEGIN:DAYLIGHT
DTSTART;VALUE=DATE-TIME:20181021T010000
TZNAME:BRST
TZOFFSETFROM:-0300
TZOFFSETTO:-0200
END:DAYLIGHT
END:VTIMEZONE
END:VCALENDAR
