BEGIN:VCALENDAR
VERSION:2.0
PRODID:-//Plone.org//NONSGML plone.app.event//EN
X-WR-TIMEZONE:Brazil/East
BEGIN:VEVENT
SUMMARY:CONFERÊNCIA ESTADUAL DO PC DO B.
DTSTART;TZID=Brazil/East;VALUE=DATE-TIME:20171021T070000
DTEND;TZID=Brazil/East;VALUE=DATE-TIME:20171021T220000
DTSTAMP;VALUE=DATE-TIME:20260420T172207Z
UID:25f907c7b2fb4aab94d03a59e81a5fef@www.goiania.go.leg.br
CONTACT:VEREADORA TATIANA LEMOS
CREATED;VALUE=DATE-TIME:20171208T111313Z
LAST-MODIFIED;VALUE=DATE-TIME:20171208T112942Z
LOCATION:AUDITÓRIO JAIME CÂMARA
URL:https://www.goiania.go.leg.br/sala-de-imprensa/eventos/conferencia-est
 adual-do-pc-do-b
END:VEVENT
BEGIN:VTIMEZONE
TZID:Brazil/East
X-LIC-LOCATION:Brazil/East
BEGIN:DAYLIGHT
DTSTART;VALUE=DATE-TIME:20171015T010000
TZNAME:BRST
TZOFFSETFROM:-0300
TZOFFSETTO:-0200
END:DAYLIGHT
END:VTIMEZONE
END:VCALENDAR
