BEGIN:VCALENDAR
VERSION:2.0
PRODID:-//Plone.org//NONSGML plone.app.event//EN
X-WR-TIMEZONE:Brazil/East
BEGIN:VEVENT
SUMMARY:CONFERÊNCIA DO CONSELHO MUNICIPAL DE SEGURANÇA ALIMENTAR.
DTSTART;TZID=Brazil/East;VALUE=DATE-TIME:20230810T090000
DTEND;TZID=Brazil/East;VALUE=DATE-TIME:20230810T170000
DTSTAMP;VALUE=DATE-TIME:20260420T172635Z
UID:bc2e21a7ba5e4bbeb54701de8c0cc392@www.goiania.go.leg.br
CONTACT:VEREADORA LÉIA KLEBIA
CREATED;VALUE=DATE-TIME:20230516T120012Z
LAST-MODIFIED;VALUE=DATE-TIME:20230516T120029Z
LOCATION:AUDITÓRIO CARLOS EURICO
URL:https://www.goiania.go.leg.br/sala-de-imprensa/eventos/conferencia-do-
 conselho-municipal-de-seguranca-alimentar
END:VEVENT
BEGIN:VTIMEZONE
TZID:Brazil/East
X-LIC-LOCATION:Brazil/East
BEGIN:STANDARD
DTSTART;VALUE=DATE-TIME:20230225T230000
TZNAME:BRT
TZOFFSETFROM:-0200
TZOFFSETTO:-0300
END:STANDARD
END:VTIMEZONE
END:VCALENDAR
