BEGIN:VCALENDAR
VERSION:2.0
PRODID:-//Plone.org//NONSGML plone.app.event//EN
X-WR-TIMEZONE:Brazil/East
BEGIN:VEVENT
SUMMARY:CONFERÊNCIA\, DEBATE E LANÇAMENTO DA ESCOLA DE REDUÇÃO DE DANO
 S DE GOIÂNIA.
DTSTART;TZID=Brazil/East;VALUE=DATE-TIME:20161214T080000
DTEND;TZID=Brazil/East;VALUE=DATE-TIME:20161214T120000
DTSTAMP;VALUE=DATE-TIME:20260420T172523Z
UID:762e866af0944e298bd3246d8be5ff48@www.goiania.go.leg.br
CONTACT:VEREADOR ANSELMO PEREIRA
CREATED;VALUE=DATE-TIME:20171208T111312Z
LAST-MODIFIED;VALUE=DATE-TIME:20171208T112926Z
LOCATION:AUDITÓRIO JAIME CÂMARA
URL:https://www.goiania.go.leg.br/sala-de-imprensa/eventos/conferencia-deb
 ate-e-lancamento-da-escola-de-reducao-de-danos-de-goiania
END:VEVENT
BEGIN:VTIMEZONE
TZID:Brazil/East
X-LIC-LOCATION:Brazil/East
BEGIN:DAYLIGHT
DTSTART;VALUE=DATE-TIME:20161016T010000
TZNAME:BRST
TZOFFSETFROM:-0300
TZOFFSETTO:-0200
END:DAYLIGHT
END:VTIMEZONE
END:VCALENDAR
