BEGIN:VCALENDAR
VERSION:2.0
PRODID:-//Plone.org//NONSGML plone.app.event//EN
X-WR-TIMEZONE:Brazil/East
BEGIN:VEVENT
SUMMARY:CONFERÊNCIA DAS MULHERES PETISTAS.
DTSTART;TZID=Brazil/East;VALUE=DATE-TIME:20251120T080000
DTEND;TZID=Brazil/East;VALUE=DATE-TIME:20251120T180000
DTSTAMP;VALUE=DATE-TIME:20260420T172524Z
UID:628dd11652564319b65aa9c8be2cde53@www.goiania.go.leg.br
CONTACT:VEREADORA KATIA
CREATED;VALUE=DATE-TIME:20251103T211322Z
LAST-MODIFIED;VALUE=DATE-TIME:20251103T211330Z
LOCATION:AUDITÓRIO JAIME CÂMARA
URL:https://www.goiania.go.leg.br/sala-de-imprensa/eventos/conferencia-das
 -mulheres-petistas
END:VEVENT
BEGIN:VTIMEZONE
TZID:Brazil/East
X-LIC-LOCATION:Brazil/East
BEGIN:DAYLIGHT
DTSTART;VALUE=DATE-TIME:20251019T010000
TZNAME:BRST
TZOFFSETFROM:-0300
TZOFFSETTO:-0200
END:DAYLIGHT
END:VTIMEZONE
END:VCALENDAR
