BEGIN:VCALENDAR
VERSION:2.0
PRODID:-//Plone.org//NONSGML plone.app.event//EN
X-WR-TIMEZONE:Brazil/East
BEGIN:VEVENT
SUMMARY:CONFERÊNCIA COM O TEMA SAÚDE DO COLÉGIO VITÓRIA.
DTSTART;TZID=Brazil/East;VALUE=DATE-TIME:20170817T070000
DTEND;TZID=Brazil/East;VALUE=DATE-TIME:20170817T180000
DTSTAMP;VALUE=DATE-TIME:20260420T172517Z
UID:ed433934989e41abbc2f31e33672a0cb@www.goiania.go.leg.br
CONTACT:VEREADOR WELINGTON PEIXOTO
CREATED;VALUE=DATE-TIME:20171208T111313Z
LAST-MODIFIED;VALUE=DATE-TIME:20171208T112938Z
LOCATION:AUDITÓRIO JAIME CÂMARA
URL:https://www.goiania.go.leg.br/sala-de-imprensa/eventos/conferencia-com
 -o-tema-saude-do-colegio-vitoria
END:VEVENT
BEGIN:VTIMEZONE
TZID:Brazil/East
X-LIC-LOCATION:Brazil/East
BEGIN:STANDARD
DTSTART;VALUE=DATE-TIME:20170218T230000
TZNAME:BRT
TZOFFSETFROM:-0200
TZOFFSETTO:-0300
END:STANDARD
END:VTIMEZONE
END:VCALENDAR
