BEGIN:VCALENDAR
VERSION:2.0
PRODID:-//Plone.org//NONSGML plone.app.event//EN
X-WR-TIMEZONE:Brazil/East
BEGIN:VEVENT
SUMMARY:COMISSÃO TÉCNICA DE ELABORAÇÃO DA REGULAMENTAÇÃO  DO PROCEDI
 MENTO DE APLICAÇÃO DAS SANÇÕES ADMINISTRATIVAS.
DTSTART;TZID=Brazil/East;VALUE=DATE-TIME:20250829T100000
DTEND;TZID=Brazil/East;VALUE=DATE-TIME:20250829T120000
DTSTAMP;VALUE=DATE-TIME:20260420T160054Z
UID:c95dc447dc0d4941839d337db316dc70@www.goiania.go.leg.br
CONTACT:PRISCILA SANTOS SILVA
CREATED;VALUE=DATE-TIME:20250825T213639Z
LAST-MODIFIED;VALUE=DATE-TIME:20250825T213657Z
LOCATION:SALA DE REUNIÃO DA PRESIDÊNCIA
URL:https://www.goiania.go.leg.br/sala-de-imprensa/eventos/comissao-tecnic
 a-de-elaboracao-da-regulamentacao-do-procedimento-de-aplicacao-das-sancoes
 -administrativas
END:VEVENT
BEGIN:VTIMEZONE
TZID:Brazil/East
X-LIC-LOCATION:Brazil/East
BEGIN:STANDARD
DTSTART;VALUE=DATE-TIME:20250215T230000
TZNAME:BRT
TZOFFSETFROM:-0200
TZOFFSETTO:-0300
END:STANDARD
END:VTIMEZONE
END:VCALENDAR
