BEGIN:VCALENDAR
VERSION:2.0
PRODID:-//Plone.org//NONSGML plone.app.event//EN
X-WR-TIMEZONE:Brazil/East
BEGIN:VEVENT
SUMMARY:COMISSÃO DOS DIREITOS DO IDOSO
DTSTART;TZID=Brazil/East;VALUE=DATE-TIME:20180706T100000
DTEND;TZID=Brazil/East;VALUE=DATE-TIME:20180706T120000
DTSTAMP;VALUE=DATE-TIME:20260420T155455Z
UID:406f7bca72924d21bee55229c109b73d@www.goiania.go.leg.br
CONTACT:VEREADOR PAULO MAGALHÃES
CREATED;VALUE=DATE-TIME:20180703T144208Z
LAST-MODIFIED;VALUE=DATE-TIME:20180703T144155Z
LOCATION:SALA DE REUNIÃO DAS COMISSÕES
URL:https://www.goiania.go.leg.br/sala-de-imprensa/eventos/comissao-dos-di
 reitos-do-idoso
END:VEVENT
BEGIN:VTIMEZONE
TZID:Brazil/East
X-LIC-LOCATION:Brazil/East
BEGIN:STANDARD
DTSTART;VALUE=DATE-TIME:20180217T230000
TZNAME:BRT
TZOFFSETFROM:-0200
TZOFFSETTO:-0300
END:STANDARD
END:VTIMEZONE
END:VCALENDAR
