BEGIN:VCALENDAR
VERSION:2.0
PRODID:-//Plone.org//NONSGML plone.app.event//EN
X-WR-TIMEZONE:Brazil/East
BEGIN:VEVENT
SUMMARY:COMENDA ATÍLIO CORREA LIMA PARA A SENHORA ANA MARIA DINIZ.
DTSTART;TZID=Brazil/East;VALUE=DATE-TIME:20180619T193000
DTEND;TZID=Brazil/East;VALUE=DATE-TIME:20180619T220000
DTSTAMP;VALUE=DATE-TIME:20260420T143738Z
UID:862cc2d875934ab5a9b62bad6f3020ab@www.goiania.go.leg.br
CONTACT:VEREADORA DRA. CRISTINA LOPES AFONSO
CREATED;VALUE=DATE-TIME:20180419T131739Z
LAST-MODIFIED;VALUE=DATE-TIME:20180419T131753Z
LOCATION:PLENÁRIO TRAJANO GUIMARÃES
URL:https://www.goiania.go.leg.br/sala-de-imprensa/eventos/comenda-atilio-
 correa-lima-para-a-senhora-ana-maria-diniz
END:VEVENT
BEGIN:VTIMEZONE
TZID:Brazil/East
X-LIC-LOCATION:Brazil/East
BEGIN:STANDARD
DTSTART;VALUE=DATE-TIME:20180217T230000
TZNAME:BRT
TZOFFSETFROM:-0200
TZOFFSETTO:-0300
END:STANDARD
END:VTIMEZONE
END:VCALENDAR
