BEGIN:VCALENDAR
VERSION:2.0
PRODID:-//Plone.org//NONSGML plone.app.event//EN
X-WR-TIMEZONE:Brazil/East
BEGIN:VEVENT
SUMMARY:COMEMORAÇÃO AOS 16 ANOS DA LEI MARIA DA PENHA.\,
DTSTART;TZID=Brazil/East;VALUE=DATE-TIME:20220823T090000
DTEND;TZID=Brazil/East;VALUE=DATE-TIME:20220823T180000
DTSTAMP;VALUE=DATE-TIME:20260420T143722Z
UID:9eadcdf989ed41fc8850373f9a545f60@www.goiania.go.leg.br
CONTACT:MARIA CLARA DUNCK
CREATED;VALUE=DATE-TIME:20220823T122723Z
LAST-MODIFIED;VALUE=DATE-TIME:20220823T122732Z
LOCATION:AUDITÓRIO CARLOS EURICO
URL:https://www.goiania.go.leg.br/sala-de-imprensa/eventos/comemoracao-aos
 -16-anos-da-lei-maria-da-penha
END:VEVENT
BEGIN:VTIMEZONE
TZID:Brazil/East
X-LIC-LOCATION:Brazil/East
BEGIN:STANDARD
DTSTART;VALUE=DATE-TIME:20220219T230000
TZNAME:BRT
TZOFFSETFROM:-0200
TZOFFSETTO:-0300
END:STANDARD
END:VTIMEZONE
END:VCALENDAR
