BEGIN:VCALENDAR
VERSION:2.0
PRODID:-//Plone.org//NONSGML plone.app.event//EN
X-WR-TIMEZONE:Brazil/East
BEGIN:VEVENT
SUMMARY:COMEMORAÇÃO AO DIA DAS MÃES DA ESCOLA ADVENTISTA DO SÉTIMO DIA
  DO SETOR PEDRO LUDOVICO.
DTSTART;TZID=Brazil/East;VALUE=DATE-TIME:20180508T140000
DTEND;TZID=Brazil/East;VALUE=DATE-TIME:20180508T180000
DTSTAMP;VALUE=DATE-TIME:20260422T070750Z
UID:e99baae43be747d78b3c3b34e7198b10@www.goiania.go.leg.br
CONTACT:VEREADOR CABO SENNA
CREATED;VALUE=DATE-TIME:20180424T132530Z
LAST-MODIFIED;VALUE=DATE-TIME:20180424T132608Z
LOCATION:AUDITÓRIO JAIME CÂMARA
URL:https://www.goiania.go.leg.br/sala-de-imprensa/eventos/comemoracao-ao-
 dia-das-maes-da-escola-adventista-do-setimo-dia-do-setor-pedro-ludovico
END:VEVENT
BEGIN:VTIMEZONE
TZID:Brazil/East
X-LIC-LOCATION:Brazil/East
BEGIN:STANDARD
DTSTART;VALUE=DATE-TIME:20180217T230000
TZNAME:BRT
TZOFFSETFROM:-0200
TZOFFSETTO:-0300
END:STANDARD
END:VTIMEZONE
END:VCALENDAR
