BEGIN:VCALENDAR
VERSION:2.0
PRODID:-//Plone.org//NONSGML plone.app.event//EN
X-WR-TIMEZONE:Brazil/East
BEGIN:VEVENT
SUMMARY:COMEMORAÇÃO AO ANIVERSÁRIO CHINÊS.
DTSTART;TZID=Brazil/East;VALUE=DATE-TIME:20180303T190000
DTEND;TZID=Brazil/East;VALUE=DATE-TIME:20180303T230000
DTSTAMP;VALUE=DATE-TIME:20260420T143523Z
UID:deeadd448ca14a33a2fd1ef09578607a@www.goiania.go.leg.br
CONTACT:VEREADOR WELINGTON PEIXOTO
CREATED;VALUE=DATE-TIME:20180220T124547Z
LAST-MODIFIED;VALUE=DATE-TIME:20180220T124557Z
LOCATION:AUDITÓRIO JAIME CÂMARA
URL:https://www.goiania.go.leg.br/sala-de-imprensa/eventos/comemoracao-ao-
 aniversario-chines
END:VEVENT
BEGIN:VTIMEZONE
TZID:Brazil/East
X-LIC-LOCATION:Brazil/East
BEGIN:STANDARD
DTSTART;VALUE=DATE-TIME:20180217T230000
TZNAME:BRT
TZOFFSETFROM:-0200
TZOFFSETTO:-0300
END:STANDARD
END:VTIMEZONE
END:VCALENDAR
