BEGIN:VCALENDAR
VERSION:2.0
PRODID:-//Plone.org//NONSGML plone.app.event//EN
X-WR-TIMEZONE:Brazil/East
BEGIN:VEVENT
SUMMARY:COLAÇÃO DE GRAU DA ESCOLA IMPACTOS.
DTSTART;TZID=Brazil/East;VALUE=DATE-TIME:20251128T190000
DTEND;TZID=Brazil/East;VALUE=DATE-TIME:20251128T220000
DTSTAMP;VALUE=DATE-TIME:20260420T143524Z
UID:5b96346a090d459c8c627c53fd205379@www.goiania.go.leg.br
CONTACT:PAULO CÉSAR FORNAZIER
CREATED;VALUE=DATE-TIME:20251126T213511Z
LAST-MODIFIED;VALUE=DATE-TIME:20251126T213526Z
LOCATION:AUDITÓRIO CARLOS EURICO
URL:https://www.goiania.go.leg.br/sala-de-imprensa/eventos/colacao-de-grau
 -da-escola-impactos
END:VEVENT
BEGIN:VTIMEZONE
TZID:Brazil/East
X-LIC-LOCATION:Brazil/East
BEGIN:DAYLIGHT
DTSTART;VALUE=DATE-TIME:20251019T010000
TZNAME:BRST
TZOFFSETFROM:-0300
TZOFFSETTO:-0200
END:DAYLIGHT
END:VTIMEZONE
END:VCALENDAR
