BEGIN:VCALENDAR
VERSION:2.0
PRODID:-//Plone.org//NONSGML plone.app.event//EN
X-WR-TIMEZONE:Brazil/East
BEGIN:VEVENT
SUMMARY:COFFEE BREAK.
DTSTART;TZID=Brazil/East;VALUE=DATE-TIME:20240626T150000
DTEND;TZID=Brazil/East;VALUE=DATE-TIME:20240626T180000
DTSTAMP;VALUE=DATE-TIME:20260420T131317Z
UID:23ba316783db4dbf819ee876470c054a@www.goiania.go.leg.br
CONTACT:VEREADOR BESSA
CREATED;VALUE=DATE-TIME:20240626T113949Z
LAST-MODIFIED;VALUE=DATE-TIME:20240626T113956Z
LOCATION:SALA DE REUNIÃO DAS COMISSÕES
URL:https://www.goiania.go.leg.br/sala-de-imprensa/eventos/coffee-break
END:VEVENT
BEGIN:VTIMEZONE
TZID:Brazil/East
X-LIC-LOCATION:Brazil/East
BEGIN:STANDARD
DTSTART;VALUE=DATE-TIME:20240217T230000
TZNAME:BRT
TZOFFSETFROM:-0200
TZOFFSETTO:-0300
END:STANDARD
END:VTIMEZONE
END:VCALENDAR
