BEGIN:VCALENDAR
VERSION:2.0
PRODID:-//Plone.org//NONSGML plone.app.event//EN
X-WR-TIMEZONE:Brazil/East
BEGIN:VEVENT
SUMMARY:CIRCUITO DE PALESTRAS INTELIGÊNCIA EMOCIONAL: EMOÇÕES \, DESENV
 OLVIMENTO E AUTOESTIMA.
DTSTART;TZID=Brazil/East;VALUE=DATE-TIME:20231215T080000
DTEND;TZID=Brazil/East;VALUE=DATE-TIME:20231215T120000
DTSTAMP;VALUE=DATE-TIME:20260419T190613Z
UID:84347508f8d04900ba28c61efdcf5e33@www.goiania.go.leg.br
CONTACT:MILKA REZENDE
CREATED;VALUE=DATE-TIME:20231206T212552Z
LAST-MODIFIED;VALUE=DATE-TIME:20231206T212621Z
LOCATION:AUDITÓRIO CARLOS EURICO
URL:https://www.goiania.go.leg.br/sala-de-imprensa/eventos/circuito-de-pal
 estras-inteligencia-emocional-emocoes-desenvolvimento-e-autoestima
END:VEVENT
BEGIN:VTIMEZONE
TZID:Brazil/East
X-LIC-LOCATION:Brazil/East
BEGIN:DAYLIGHT
DTSTART;VALUE=DATE-TIME:20231015T010000
TZNAME:BRST
TZOFFSETFROM:-0300
TZOFFSETTO:-0200
END:DAYLIGHT
END:VTIMEZONE
END:VCALENDAR
