BEGIN:VCALENDAR
VERSION:2.0
PRODID:-//Plone.org//NONSGML plone.app.event//EN
X-WR-TIMEZONE:Brazil/East
BEGIN:VEVENT
SUMMARY:CERIMÔNIA PARA OFICIALIZAR O ACORDO TÉCNICO DE COOPERAÇÃO ENTR
 E A CÂMARA E AS INSTITUIÇÕES DE ENSINO CENTRO UNIVERSITÁRIO - FACUNICA
 MPS E UNIVERSIDADE SALGADO DE OLIVEIRA.
DTSTART;TZID=Brazil/East;VALUE=DATE-TIME:20250321T080000
DTEND;TZID=Brazil/East;VALUE=DATE-TIME:20250321T120000
DTSTAMP;VALUE=DATE-TIME:20260420T131812Z
UID:c5598383560f4c0da7543f0ae0565bab@www.goiania.go.leg.br
CONTACT:COORDENAÇÃO DA OUVIDORIA ESPECIAL DA MULHER
CREATED;VALUE=DATE-TIME:20250318T134104Z
LAST-MODIFIED;VALUE=DATE-TIME:20250318T134118Z
LOCATION:SALA DE REUNIÃO DA PRESIDÊNCIA
URL:https://www.goiania.go.leg.br/sala-de-imprensa/eventos/cerimonia-para-
 oficializar-o-acordo-tecnico-de-cooperacao-entre-a-camara-e-as-instituicoe
 s-de-ensino-centro-universitario-facunicamps-e-universidade-salgado-de-oli
 veira
END:VEVENT
BEGIN:VTIMEZONE
TZID:Brazil/East
X-LIC-LOCATION:Brazil/East
BEGIN:STANDARD
DTSTART;VALUE=DATE-TIME:20250215T230000
TZNAME:BRT
TZOFFSETFROM:-0200
TZOFFSETTO:-0300
END:STANDARD
END:VTIMEZONE
END:VCALENDAR
