BEGIN:VCALENDAR
VERSION:2.0
PRODID:-//Plone.org//NONSGML plone.app.event//EN
X-WR-TIMEZONE:Brazil/East
BEGIN:VEVENT
SUMMARY:CERIMÔNIA DE POSSE DO NOVO DIRETÓRIO DO PSOL.
DTSTART;TZID=Brazil/East;VALUE=DATE-TIME:20211129T190000
DTEND;TZID=Brazil/East;VALUE=DATE-TIME:20211129T220000
DTSTAMP;VALUE=DATE-TIME:20260420T131518Z
UID:e881ac261d8c486ca467a85840fe00b7@www.goiania.go.leg.br
CONTACT:VEREADOR MAURO RUBEM
CREATED;VALUE=DATE-TIME:20211117T193810Z
LAST-MODIFIED;VALUE=DATE-TIME:20211117T193823Z
LOCATION:AUDITÓRIO CARLOS EURICO
URL:https://www.goiania.go.leg.br/sala-de-imprensa/eventos/cerimonia-de-po
 sse-do-novo-diretorio-do-psol
END:VEVENT
BEGIN:VTIMEZONE
TZID:Brazil/East
X-LIC-LOCATION:Brazil/East
BEGIN:DAYLIGHT
DTSTART;VALUE=DATE-TIME:20211017T010000
TZNAME:BRST
TZOFFSETFROM:-0300
TZOFFSETTO:-0200
END:DAYLIGHT
END:VTIMEZONE
END:VCALENDAR
