BEGIN:VCALENDAR
VERSION:2.0
PRODID:-//Plone.org//NONSGML plone.app.event//EN
X-WR-TIMEZONE:Brazil/East
BEGIN:VEVENT
SUMMARY:CEI DO TRANSPORTE COLETIVO.
DTSTART;TZID=Brazil/East;VALUE=DATE-TIME:20170829T083000
DTEND;TZID=Brazil/East;VALUE=DATE-TIME:20170829T120000
DTSTAMP;VALUE=DATE-TIME:20260420T131524Z
UID:31d6cc28ce5d4f16b0e136c195a8f023@www.goiania.go.leg.br
CONTACT:VEREADOR CLÉCIO ALVES
CREATED;VALUE=DATE-TIME:20171208T111313Z
LAST-MODIFIED;VALUE=DATE-TIME:20171208T112939Z
LOCATION:SALA DE REUNIÃO DAS COMISSÕES
URL:https://www.goiania.go.leg.br/sala-de-imprensa/eventos/cei-do-transpor
 te-coletivo-3
END:VEVENT
BEGIN:VTIMEZONE
TZID:Brazil/East
X-LIC-LOCATION:Brazil/East
BEGIN:STANDARD
DTSTART;VALUE=DATE-TIME:20170218T230000
TZNAME:BRT
TZOFFSETFROM:-0200
TZOFFSETTO:-0300
END:STANDARD
END:VTIMEZONE
END:VCALENDAR
