BEGIN:VCALENDAR
VERSION:2.0
PRODID:-//Plone.org//NONSGML plone.app.event//EN
X-WR-TIMEZONE:Brazil/East
BEGIN:VEVENT
SUMMARY:CEI DA PREFEITURA 2008/2016.
DTSTART;TZID=Brazil/East;VALUE=DATE-TIME:20170628T143000
DTEND;TZID=Brazil/East;VALUE=DATE-TIME:20170628T180000
DTSTAMP;VALUE=DATE-TIME:20260420T115501Z
UID:cebcea7627a54bef834a79ee04813ef4@www.goiania.go.leg.br
CONTACT:VEREADOR ZABER FÁBIO
CREATED;VALUE=DATE-TIME:20171208T111313Z
LAST-MODIFIED;VALUE=DATE-TIME:20171208T112936Z
LOCATION:SALA DE REUNIÃO DAS COMISSÕES
URL:https://www.goiania.go.leg.br/sala-de-imprensa/eventos/cei-da-prefeitu
 ra-2008-2016-4
END:VEVENT
BEGIN:VTIMEZONE
TZID:Brazil/East
X-LIC-LOCATION:Brazil/East
BEGIN:STANDARD
DTSTART;VALUE=DATE-TIME:20170218T230000
TZNAME:BRT
TZOFFSETFROM:-0200
TZOFFSETTO:-0300
END:STANDARD
END:VTIMEZONE
END:VCALENDAR
