BEGIN:VCALENDAR
VERSION:2.0
PRODID:-//Plone.org//NONSGML plone.app.event//EN
X-WR-TIMEZONE:Brazil/East
BEGIN:VEVENT
SUMMARY:CAPACITAÇÃO "AÇÕES INTEGRADAS DE SAÚDE FRENTE ÀS ENCHENTES E
  ALAGAMENTOS" .                   
DTSTART;TZID=Brazil/East;VALUE=DATE-TIME:20181212T070000
DTEND;TZID=Brazil/East;VALUE=DATE-TIME:20181212T170000
DTSTAMP;VALUE=DATE-TIME:20260422T083209Z
UID:b8059f179d1f4b5fac44d99793076b41@www.goiania.go.leg.br
CONTACT:FLÚVIA PEREIRA AMORIM DA SILVA
CREATED;VALUE=DATE-TIME:20181123T103819Z
LAST-MODIFIED;VALUE=DATE-TIME:20181123T103833Z
LOCATION:AUDITÓRIO JAIME CÂMARA
URL:https://www.goiania.go.leg.br/sala-de-imprensa/eventos/capacitacao-aco
 es-integradas-de-saude-frente-as-enchentes-e-alagamentos
END:VEVENT
BEGIN:VTIMEZONE
TZID:Brazil/East
X-LIC-LOCATION:Brazil/East
BEGIN:DAYLIGHT
DTSTART;VALUE=DATE-TIME:20181021T010000
TZNAME:BRST
TZOFFSETFROM:-0300
TZOFFSETTO:-0200
END:DAYLIGHT
END:VTIMEZONE
END:VCALENDAR
