BEGIN:VCALENDAR
VERSION:2.0
PRODID:-//Plone.org//NONSGML plone.app.event//EN
X-WR-TIMEZONE:Brazil/East
BEGIN:VEVENT
SUMMARY:CANTATA DE NATAL DO CMEI VILLAGE ATALAIA.
DTSTART;TZID=Brazil/East;VALUE=DATE-TIME:20251217T160000
DTEND;TZID=Brazil/East;VALUE=DATE-TIME:20251217T180000
DTSTAMP;VALUE=DATE-TIME:20260419T162022Z
UID:1546de4bfea94f66bf789b1a1c3e193d@www.goiania.go.leg.br
CONTACT:VEREADOR FABRICIO ROSA
CREATED;VALUE=DATE-TIME:20250410T121417Z
LAST-MODIFIED;VALUE=DATE-TIME:20250410T121429Z
LOCATION:AUDITÓRIO JAIME CÂMARA
URL:https://www.goiania.go.leg.br/sala-de-imprensa/eventos/cantata-de-nata
 l-do-cmei-village-atalaia
END:VEVENT
BEGIN:VTIMEZONE
TZID:Brazil/East
X-LIC-LOCATION:Brazil/East
BEGIN:DAYLIGHT
DTSTART;VALUE=DATE-TIME:20251019T010000
TZNAME:BRST
TZOFFSETFROM:-0300
TZOFFSETTO:-0200
END:DAYLIGHT
END:VTIMEZONE
END:VCALENDAR
