BEGIN:VCALENDAR
VERSION:2.0
PRODID:-//Plone.org//NONSGML plone.app.event//EN
X-WR-TIMEZONE:Brazil/East
BEGIN:VEVENT
SUMMARY:CANTATA DE NATAL DA ESCOLA MUNICIPAL RUI BARBOSA.
DTSTART;TZID=Brazil/East;VALUE=DATE-TIME:20181213T180000
DTEND;TZID=Brazil/East;VALUE=DATE-TIME:20181213T220000
DTSTAMP;VALUE=DATE-TIME:20260420T104226Z
UID:31d14394db5f4cab9ec61d74a5533e10@www.goiania.go.leg.br
CONTACT:VEREADOR WELINGTON PEIXOTO
CREATED;VALUE=DATE-TIME:20180925T112057Z
LAST-MODIFIED;VALUE=DATE-TIME:20180925T112148Z
LOCATION:AUDITÓRIO JAIME CÂMARA
URL:https://www.goiania.go.leg.br/sala-de-imprensa/eventos/cantata-de-nata
 l-da-escola-municipal-rui-barbosa
END:VEVENT
BEGIN:VTIMEZONE
TZID:Brazil/East
X-LIC-LOCATION:Brazil/East
BEGIN:DAYLIGHT
DTSTART;VALUE=DATE-TIME:20181021T010000
TZNAME:BRST
TZOFFSETFROM:-0300
TZOFFSETTO:-0200
END:DAYLIGHT
END:VTIMEZONE
END:VCALENDAR
