BEGIN:VCALENDAR
VERSION:2.0
PRODID:-//Plone.org//NONSGML plone.app.event//EN
X-WR-TIMEZONE:Brazil/East
BEGIN:VEVENT
SUMMARY:CAMPANHA GOIÂNIA SEM ASSÉDIO - EM PARCERIA COM O CONSELHO ESTADU
 AL DA MULHER DE GOIÁS.
DTSTART;TZID=Brazil/East;VALUE=DATE-TIME:20190815T083000
DTEND;TZID=Brazil/East;VALUE=DATE-TIME:20190815T120000
DTSTAMP;VALUE=DATE-TIME:20260420T103316Z
UID:e02f0303dd044dc2b75560c98fe24dc1@www.goiania.go.leg.br
CONTACT:PAULO CÉSAR FORNAZIER
CREATED;VALUE=DATE-TIME:20190813T153523Z
LAST-MODIFIED;VALUE=DATE-TIME:20190813T153547Z
LOCATION:AUDITÓRIO JAIME CÂMARA
URL:https://www.goiania.go.leg.br/sala-de-imprensa/eventos/campanha-goiani
 a-sem-assedio-em-parceria-com-o-conselho-estadual-da-mulher-de-goias
END:VEVENT
BEGIN:VTIMEZONE
TZID:Brazil/East
X-LIC-LOCATION:Brazil/East
BEGIN:STANDARD
DTSTART;VALUE=DATE-TIME:20190216T230000
TZNAME:BRT
TZOFFSETFROM:-0200
TZOFFSETTO:-0300
END:STANDARD
END:VTIMEZONE
END:VCALENDAR
