BEGIN:VCALENDAR
VERSION:2.0
PRODID:-//Plone.org//NONSGML plone.app.event//EN
X-WR-TIMEZONE:Brazil/East
BEGIN:VEVENT
SUMMARY:CAMPANHA "DOE VIDA" DE DOAÇÃO DE MEDULA ÓSSEA\, PROMOVIDA PELO 
 HEMOCENTRO.
DTSTART;TZID=Brazil/East;VALUE=DATE-TIME:20180222T080000
DTEND;TZID=Brazil/East;VALUE=DATE-TIME:20180222T180000
DTSTAMP;VALUE=DATE-TIME:20260420T103208Z
UID:19436dab351541e999eefd4d5fccbf52@www.goiania.go.leg.br
CONTACT:MARCELO LINS DE MOURA
CREATED;VALUE=DATE-TIME:20180219T102158Z
LAST-MODIFIED;VALUE=DATE-TIME:20180219T102209Z
LOCATION:AUDITÓRIO CARLOS EURICO
URL:https://www.goiania.go.leg.br/sala-de-imprensa/eventos/campanha-doe-vi
 da-de-doacao-de-medula-ossea-promovida-pelo-hemocentro
END:VEVENT
BEGIN:VTIMEZONE
TZID:Brazil/East
X-LIC-LOCATION:Brazil/East
BEGIN:STANDARD
DTSTART;VALUE=DATE-TIME:20180217T230000
TZNAME:BRT
TZOFFSETFROM:-0200
TZOFFSETTO:-0300
END:STANDARD
END:VTIMEZONE
END:VCALENDAR
