BEGIN:VCALENDAR
VERSION:2.0
PRODID:-//Plone.org//NONSGML plone.app.event//EN
X-WR-TIMEZONE:Brazil/East
BEGIN:VEVENT
SUMMARY:CAMPANHA DE DOAÇÃO DE CABELO.
DTSTART;TZID=Brazil/East;VALUE=DATE-TIME:20231018T080000
DTEND;TZID=Brazil/East;VALUE=DATE-TIME:20231018T180000
DTSTAMP;VALUE=DATE-TIME:20260422T083046Z
UID:3de7349bfe824f568b860de4ee5cf9d8@www.goiania.go.leg.br
CONTACT:VEREADOR ISAÍAS RIBEIRO
CREATED;VALUE=DATE-TIME:20231018T142608Z
LAST-MODIFIED;VALUE=DATE-TIME:20231018T142644Z
LOCATION:HALL DE ENTRADA DESTA CASA DE LEIS
URL:https://www.goiania.go.leg.br/sala-de-imprensa/eventos/campanha-de-doa
 cao-de-cabelo
END:VEVENT
BEGIN:VTIMEZONE
TZID:Brazil/East
X-LIC-LOCATION:Brazil/East
BEGIN:DAYLIGHT
DTSTART;VALUE=DATE-TIME:20231015T010000
TZNAME:BRST
TZOFFSETFROM:-0300
TZOFFSETTO:-0200
END:DAYLIGHT
END:VTIMEZONE
END:VCALENDAR
