BEGIN:VCALENDAR
VERSION:2.0
PRODID:-//Plone.org//NONSGML plone.app.event//EN
X-WR-TIMEZONE:Brazil/East
BEGIN:VEVENT
SUMMARY:CAIXA PARA COLETA DE ABSORVENTES E COLETORES MENSTRUAIS PARA MULHE
 RES EM SITUAÇÃO DE VULNERABILIDADE SOCIAL.
DTSTART;TZID=Brazil/East;VALUE=DATE-TIME:20211004T080000
DTEND;TZID=Brazil/East;VALUE=DATE-TIME:20211031T180000
DTSTAMP;VALUE=DATE-TIME:20260420T093400Z
UID:327d2e9580e54d3aab27dda3e4b5e2bd@www.goiania.go.leg.br
CONTACT:MARIA CLARA DUNCK
CREATED;VALUE=DATE-TIME:20211004T204302Z
LAST-MODIFIED;VALUE=DATE-TIME:20211004T204329Z
LOCATION:GALERIA DOS PRESIDENTES
URL:https://www.goiania.go.leg.br/sala-de-imprensa/eventos/caixa-para-cole
 ta-de-absorventes-e-coletores-menstruais-para-mulheres-em-situacao-de-vuln
 erabilidade-social
END:VEVENT
BEGIN:VTIMEZONE
TZID:Brazil/East
X-LIC-LOCATION:Brazil/East
BEGIN:STANDARD
DTSTART;VALUE=DATE-TIME:20210220T230000
TZNAME:BRT
TZOFFSETFROM:-0200
TZOFFSETTO:-0300
END:STANDARD
BEGIN:DAYLIGHT
DTSTART;VALUE=DATE-TIME:20211017T010000
TZNAME:BRST
TZOFFSETFROM:-0300
TZOFFSETTO:-0200
END:DAYLIGHT
END:VTIMEZONE
END:VCALENDAR
