BEGIN:VCALENDAR
VERSION:2.0
PRODID:-//Plone.org//NONSGML plone.app.event//EN
X-WR-TIMEZONE:Brazil/East
BEGIN:VEVENT
SUMMARY:BAZAR EM HOMENAGEM AO MÊS DAS CRIANÇAS.
DTSTART;TZID=Brazil/East;VALUE=DATE-TIME:20171026T090000
DTEND;TZID=Brazil/East;VALUE=DATE-TIME:20171026T170000
DTSTAMP;VALUE=DATE-TIME:20260420T093256Z
UID:a87fae468f0c4a9f956a8aa3176cce5f@www.goiania.go.leg.br
CONTACT:SHIRLEI CORDEIRO - COORDENADORA
CREATED;VALUE=DATE-TIME:20171208T111313Z
LAST-MODIFIED;VALUE=DATE-TIME:20171208T112942Z
LOCATION:HALL DE ENTRADA
URL:https://www.goiania.go.leg.br/sala-de-imprensa/eventos/bazar-em-homena
 gem-ao-mes-das-criancas-1
END:VEVENT
BEGIN:VTIMEZONE
TZID:Brazil/East
X-LIC-LOCATION:Brazil/East
BEGIN:DAYLIGHT
DTSTART;VALUE=DATE-TIME:20171015T010000
TZNAME:BRST
TZOFFSETFROM:-0300
TZOFFSETTO:-0200
END:DAYLIGHT
END:VTIMEZONE
END:VCALENDAR
