BEGIN:VCALENDAR
VERSION:2.0
PRODID:-//Plone.org//NONSGML plone.app.event//EN
X-WR-TIMEZONE:Brazil/East
BEGIN:VEVENT
SUMMARY:BATE-PAPO ENTRE O VEREADOR BRUNO DINIZ E OS INTEGRANTES GRUPO DA A
 LEGRIA A E B DO SERVIÇO DE CONVIVÊNCIA E FORTALECIMENTO DE VÍNCULOS (SC
 FV)\, ATENDIDOS PELO CRAS NOVO HORIZONTE.
DTSTART;TZID=Brazil/East;VALUE=DATE-TIME:20250910T080000
DTEND;TZID=Brazil/East;VALUE=DATE-TIME:20250910T120000
DTSTAMP;VALUE=DATE-TIME:20260422T054832Z
UID:9864eaaf23024b93923450a77ad9b2fb@www.goiania.go.leg.br
CONTACT:COORDENAÇÃO DA ESCOLA LEGISLATIVA
CREATED;VALUE=DATE-TIME:20250908T122554Z
LAST-MODIFIED;VALUE=DATE-TIME:20250908T150812Z
LOCATION:SALA DE REUNIÃO DA PRESIDÊNCIA
URL:https://www.goiania.go.leg.br/sala-de-imprensa/eventos/bate-papo-entre
 -o-vereador-bruno-diniz-e-os-integrantes-grupo-da-alegria-a-e-b-do-servico
 -de-convivencia-e-fortalecimento-de-vinculos-scfv-atendidos-pelo-cras-novo
 -horizonte
END:VEVENT
BEGIN:VTIMEZONE
TZID:Brazil/East
X-LIC-LOCATION:Brazil/East
BEGIN:STANDARD
DTSTART;VALUE=DATE-TIME:20250215T230000
TZNAME:BRT
TZOFFSETFROM:-0200
TZOFFSETTO:-0300
END:STANDARD
END:VTIMEZONE
END:VCALENDAR
