BEGIN:VCALENDAR
VERSION:2.0
PRODID:-//Plone.org//NONSGML plone.app.event//EN
X-WR-TIMEZONE:Brazil/East
BEGIN:VEVENT
SUMMARY:BATE-PAPO DE ESTUDANTES DO 9º ANO DA ESOCLA  AMERICANA DE GOIÁS 
 COM O VEREADOR ISAÍAS RIBEIRO.
DTSTART;TZID=Brazil/East;VALUE=DATE-TIME:20230926T090000
DTEND;TZID=Brazil/East;VALUE=DATE-TIME:20230926T120000
DTSTAMP;VALUE=DATE-TIME:20260419T162614Z
UID:a98619cb91114b4c8b70d76bee74cbe7@www.goiania.go.leg.br
CONTACT:VEREADOR ISAÍAS RIBEIRO
CREATED;VALUE=DATE-TIME:20230906T133125Z
LAST-MODIFIED;VALUE=DATE-TIME:20230906T133141Z
LOCATION:SALA DE REUNIÃO DA PRESIDÊNCIA
URL:https://www.goiania.go.leg.br/sala-de-imprensa/eventos/bate-papo-de-es
 tudantes-do-9o-ano-da-esocla-americana-de-goias-com-o-vereador-isaias-ribe
 iro
END:VEVENT
BEGIN:VTIMEZONE
TZID:Brazil/East
X-LIC-LOCATION:Brazil/East
BEGIN:STANDARD
DTSTART;VALUE=DATE-TIME:20230225T230000
TZNAME:BRT
TZOFFSETFROM:-0200
TZOFFSETTO:-0300
END:STANDARD
END:VTIMEZONE
END:VCALENDAR
