BEGIN:VCALENDAR
VERSION:2.0
PRODID:-//Plone.org//NONSGML plone.app.event//EN
X-WR-TIMEZONE:Brazil/East
BEGIN:VEVENT
SUMMARY:BAR BENEFICIENTE E VENDA DE PÃO COM MOLHO DE SASICHA.
DTSTART;TZID=Brazil/East;VALUE=DATE-TIME:20240411T090000
DTEND;TZID=Brazil/East;VALUE=DATE-TIME:20240411T130000
DTSTAMP;VALUE=DATE-TIME:20260421T084900Z
UID:34b030b372f64aa2a245785ba000b5aa@www.goiania.go.leg.br
CONTACT:VEREADORA LUCIULA DO RECANTO
CREATED;VALUE=DATE-TIME:20240409T135353Z
LAST-MODIFIED;VALUE=DATE-TIME:20240409T135439Z
LOCATION:HALL SUPERIOR DA GALERIA DOS EX - PRESIDENTES
URL:https://www.goiania.go.leg.br/sala-de-imprensa/eventos/bar-beneficient
 e-e-venda-de-pao-com-molho-de-sasicha
END:VEVENT
BEGIN:VTIMEZONE
TZID:Brazil/East
X-LIC-LOCATION:Brazil/East
BEGIN:STANDARD
DTSTART;VALUE=DATE-TIME:20240217T230000
TZNAME:BRT
TZOFFSETFROM:-0200
TZOFFSETTO:-0300
END:STANDARD
END:VTIMEZONE
END:VCALENDAR
