BEGIN:VCALENDAR
VERSION:2.0
PRODID:-//Plone.org//NONSGML plone.app.event//EN
X-WR-TIMEZONE:Brazil/East
BEGIN:VEVENT
SUMMARY:AULA INAUGURAL PARA A CONTRATAÇÃO DE VIGILANTES PENITENCIÁRIOS 
 OS  TEMPORÁRIOS.                                      
DTSTART;TZID=Brazil/East;VALUE=DATE-TIME:20180326T080000
DTEND;TZID=Brazil/East;VALUE=DATE-TIME:20180326T120000
DTSTAMP;VALUE=DATE-TIME:20260422T054837Z
UID:5ef8fc5c72f9446a9fe366a740e28757@www.goiania.go.leg.br
CONTACT:SHEILA CARDOSO SILVA
CREATED;VALUE=DATE-TIME:20180306T131312Z
LAST-MODIFIED;VALUE=DATE-TIME:20180306T131317Z
LOCATION:AUDITÓRIO JAIME CÂMARA
URL:https://www.goiania.go.leg.br/sala-de-imprensa/eventos/aula-inaugural-
 para-a-contratacao-de-vigilantes-penitenciarios-os-temporarios
END:VEVENT
BEGIN:VTIMEZONE
TZID:Brazil/East
X-LIC-LOCATION:Brazil/East
BEGIN:STANDARD
DTSTART;VALUE=DATE-TIME:20180217T230000
TZNAME:BRT
TZOFFSETFROM:-0200
TZOFFSETTO:-0300
END:STANDARD
END:VTIMEZONE
END:VCALENDAR
