BEGIN:VCALENDAR
VERSION:2.0
PRODID:-//Plone.org//NONSGML plone.app.event//EN
X-WR-TIMEZONE:Brazil/East
BEGIN:VEVENT
SUMMARY:AULA INAUGURAL - II CURSO DE FORMAÇÃO DE VIGILANTES PENITENCIÁR
 IOS TEMPORÁRIOS.
DTSTART;TZID=Brazil/East;VALUE=DATE-TIME:20181119T080000
DTEND;TZID=Brazil/East;VALUE=DATE-TIME:20181119T120000
DTSTAMP;VALUE=DATE-TIME:20260420T093407Z
UID:c7c62a56edc84a15a470f9b2a973febf@www.goiania.go.leg.br
CONTACT:SHEILA CARDOSO SILVA
CREATED;VALUE=DATE-TIME:20181114T113207Z
LAST-MODIFIED;VALUE=DATE-TIME:20181114T113214Z
LOCATION:AUDITÓRIO JAIME CÂMARA
URL:https://www.goiania.go.leg.br/sala-de-imprensa/eventos/aula-inaugural-
 ii-curso-de-formacao-de-vigilantes-penitenciarios-temporarios
END:VEVENT
BEGIN:VTIMEZONE
TZID:Brazil/East
X-LIC-LOCATION:Brazil/East
BEGIN:DAYLIGHT
DTSTART;VALUE=DATE-TIME:20181021T010000
TZNAME:BRST
TZOFFSETFROM:-0300
TZOFFSETTO:-0200
END:DAYLIGHT
END:VTIMEZONE
END:VCALENDAR
