BEGIN:VCALENDAR
VERSION:2.0
PRODID:-//Plone.org//NONSGML plone.app.event//EN
X-WR-TIMEZONE:Brazil/East
BEGIN:VEVENT
SUMMARY:AULA INAUGURAL DA ESCOLA DO SUAS DO ESTADO DE GOIÁS.
DTSTART;TZID=Brazil/East;VALUE=DATE-TIME:20181114T080000
DTEND;TZID=Brazil/East;VALUE=DATE-TIME:20181114T120000
DTSTAMP;VALUE=DATE-TIME:20260420T093307Z
UID:17be463692b1498cb3c565d71ebb8714@www.goiania.go.leg.br
CONTACT:MURILO MENDONÇA BARRA
CREATED;VALUE=DATE-TIME:20181106T085751Z
LAST-MODIFIED;VALUE=DATE-TIME:20181106T085804Z
LOCATION:AUDITÓRIO JAIME CÂMARA
URL:https://www.goiania.go.leg.br/sala-de-imprensa/eventos/aula-inaugural-
 da-escola-do-suas-do-estado-de-goias
END:VEVENT
BEGIN:VTIMEZONE
TZID:Brazil/East
X-LIC-LOCATION:Brazil/East
BEGIN:DAYLIGHT
DTSTART;VALUE=DATE-TIME:20181021T010000
TZNAME:BRST
TZOFFSETFROM:-0300
TZOFFSETTO:-0200
END:DAYLIGHT
END:VTIMEZONE
END:VCALENDAR
