BEGIN:VCALENDAR
VERSION:2.0
PRODID:-//Plone.org//NONSGML plone.app.event//EN
X-WR-TIMEZONE:Brazil/East
BEGIN:VEVENT
SUMMARY:AUDIÊNCIA PÚBLICA SOBRE TRANSPORTE POR APLICATIVOS.
DTSTART;TZID=Brazil/East;VALUE=DATE-TIME:20180313T190000
DTEND;TZID=Brazil/East;VALUE=DATE-TIME:20180313T220000
DTSTAMP;VALUE=DATE-TIME:20260420T075400Z
UID:ed736309fa274ebea26aed67987f8a8b@www.goiania.go.leg.br
CONTACT:VEREADOR LUCAS KITÃO
CREATED;VALUE=DATE-TIME:20180305T133503Z
LAST-MODIFIED;VALUE=DATE-TIME:20180312T135131Z
LOCATION:AUDITÓRIO CARLOS EURICO
URL:https://www.goiania.go.leg.br/sala-de-imprensa/eventos/audiencia-publi
 ca-sobre-transporte-por-aplicativos
END:VEVENT
BEGIN:VTIMEZONE
TZID:Brazil/East
X-LIC-LOCATION:Brazil/East
BEGIN:STANDARD
DTSTART;VALUE=DATE-TIME:20180217T230000
TZNAME:BRT
TZOFFSETFROM:-0200
TZOFFSETTO:-0300
END:STANDARD
END:VTIMEZONE
END:VCALENDAR
