BEGIN:VCALENDAR
VERSION:2.0
PRODID:-//Plone.org//NONSGML plone.app.event//EN
X-WR-TIMEZONE:Brazil/East
BEGIN:VEVENT
SUMMARY:AUDIÊNCIA PÚBLICA SOBRE REGULAMENTAÇÃO DOS MOTORISTAS DE APLIC
 ATIVOS.
DTSTART;TZID=Brazil/East;VALUE=DATE-TIME:20230523T150000
DTEND;TZID=Brazil/East;VALUE=DATE-TIME:20230523T180000
DTSTAMP;VALUE=DATE-TIME:20260420T034735Z
UID:e5b3f818f051447db007d5b423d6e130@www.goiania.go.leg.br
CONTACT:VEREADOR GEVERSON ABEL
CREATED;VALUE=DATE-TIME:20230516T102406Z
LAST-MODIFIED;VALUE=DATE-TIME:20230516T102426Z
LOCATION:AUDITÓRIO CARLOS EURICO
URL:https://www.goiania.go.leg.br/sala-de-imprensa/eventos/audiencia-publi
 ca-sobre-regulamentacao-dos-motoristas-de-aplicativos
END:VEVENT
BEGIN:VTIMEZONE
TZID:Brazil/East
X-LIC-LOCATION:Brazil/East
BEGIN:STANDARD
DTSTART;VALUE=DATE-TIME:20230225T230000
TZNAME:BRT
TZOFFSETFROM:-0200
TZOFFSETTO:-0300
END:STANDARD
END:VTIMEZONE
END:VCALENDAR
