BEGIN:VCALENDAR
VERSION:2.0
PRODID:-//Plone.org//NONSGML plone.app.event//EN
X-WR-TIMEZONE:Brazil/East
BEGIN:VEVENT
SUMMARY:AUDIÊNCIA PÚBLICA SOBRE O PROJETO DE LEI "UNIVERSIDADE AMIGA DO 
 IDOSO".
DTSTART;TZID=Brazil/East;VALUE=DATE-TIME:20191216T140000
DTEND;TZID=Brazil/East;VALUE=DATE-TIME:20191216T180000
DTSTAMP;VALUE=DATE-TIME:20260424T052640Z
UID:9aa1ad134cfe4822a9738cabc03a4c3b@www.goiania.go.leg.br
CONTACT:VEREADOR PAULO MAGALHÃES
CREATED;VALUE=DATE-TIME:20191118T102530Z
LAST-MODIFIED;VALUE=DATE-TIME:20191118T102537Z
LOCATION:AUDITÓRIO CARLOS EURICO
URL:https://www.goiania.go.leg.br/sala-de-imprensa/eventos/audiencia-publi
 ca-sobre-o-projeto-de-lei-universidade-amiga-do-idoso
END:VEVENT
BEGIN:VTIMEZONE
TZID:Brazil/East
X-LIC-LOCATION:Brazil/East
BEGIN:DAYLIGHT
DTSTART;VALUE=DATE-TIME:20191020T010000
TZNAME:BRST
TZOFFSETFROM:-0300
TZOFFSETTO:-0200
END:DAYLIGHT
END:VTIMEZONE
END:VCALENDAR
