BEGIN:VCALENDAR
VERSION:2.0
PRODID:-//Plone.org//NONSGML plone.app.event//EN
X-WR-TIMEZONE:Brazil/East
BEGIN:VEVENT
SUMMARY:AUDIÊNCIA PÚBLICA SOBRE O FECHAMENTO DAS ESCOLAS QUE PROMOVEM À
  EDUCAÇÃO DE JOVENS E ADULTOS EM GOIÂNIA.
DTSTART;TZID=Brazil/East;VALUE=DATE-TIME:20211209T140000
DTEND;TZID=Brazil/East;VALUE=DATE-TIME:20211209T160000
DTSTAMP;VALUE=DATE-TIME:20260420T082230Z
UID:12d68fcdad7a4512856d5ce4adabd8c5@www.goiania.go.leg.br
CONTACT:VEREADOR MAURO RUBEM
CREATED;VALUE=DATE-TIME:20211116T194636Z
LAST-MODIFIED;VALUE=DATE-TIME:20211116T194652Z
LOCATION:PLENÁRIO TRAJANO GUIMARÃES
URL:https://www.goiania.go.leg.br/sala-de-imprensa/eventos/audiencia-publi
 ca-sobre-o-fechamento-das-escolas-que-promovem-a-educacao-de-jovens-e-adul
 tos-em-goiania
END:VEVENT
BEGIN:VTIMEZONE
TZID:Brazil/East
X-LIC-LOCATION:Brazil/East
BEGIN:DAYLIGHT
DTSTART;VALUE=DATE-TIME:20211017T010000
TZNAME:BRST
TZOFFSETFROM:-0300
TZOFFSETTO:-0200
END:DAYLIGHT
END:VTIMEZONE
END:VCALENDAR
