BEGIN:VCALENDAR
VERSION:2.0
PRODID:-//Plone.org//NONSGML plone.app.event//EN
X-WR-TIMEZONE:Brazil/East
BEGIN:VEVENT
SUMMARY:AUDIÊNCIA PÚBLICA SOBRE IDEOLOGIA DE GÊNERO NAS NORMAS DA BNCC.
DTSTART;TZID=Brazil/East;VALUE=DATE-TIME:20171219T190000
DTEND;TZID=Brazil/East;VALUE=DATE-TIME:20171219T220000
DTSTAMP;VALUE=DATE-TIME:20260420T063257Z
UID:90fe119c04bd4b2ab3f948c549d51f96@www.goiania.go.leg.br
CONTACT:VEREADOR KLEYBE MORAIS
CREATED;VALUE=DATE-TIME:20171211T114024Z
LAST-MODIFIED;VALUE=DATE-TIME:20171211T114032Z
LOCATION:AUDITÓRIO CARLOS EURICO
URL:https://www.goiania.go.leg.br/sala-de-imprensa/eventos/audiencia-publi
 ca-sobre-ideologia-de-genero-nas-normas-da-bncc
END:VEVENT
BEGIN:VTIMEZONE
TZID:Brazil/East
X-LIC-LOCATION:Brazil/East
BEGIN:DAYLIGHT
DTSTART;VALUE=DATE-TIME:20171015T010000
TZNAME:BRST
TZOFFSETFROM:-0300
TZOFFSETTO:-0200
END:DAYLIGHT
END:VTIMEZONE
END:VCALENDAR
