BEGIN:VCALENDAR
VERSION:2.0
PRODID:-//Plone.org//NONSGML plone.app.event//EN
X-WR-TIMEZONE:Brazil/East
BEGIN:VEVENT
SUMMARY:AUDIÊNCIA PÚBLICA SOBRE ESCALONAMENTO DE HORÁRIOS DE FUNCIONAME
 NTO DE EMPRESAS PÚBLICAS E PRIVADAS EM GOIÂNIA.
DTSTART;TZID=Brazil/East;VALUE=DATE-TIME:20190506T140000
DTEND;TZID=Brazil/East;VALUE=DATE-TIME:20190506T180000
DTSTAMP;VALUE=DATE-TIME:20260420T063345Z
UID:02746e80a3414196b0ec9f692ea6dec1@www.goiania.go.leg.br
CONTACT:VEREADOR ANDREY AZEREDO
CREATED;VALUE=DATE-TIME:20190430T140714Z
LAST-MODIFIED;VALUE=DATE-TIME:20190430T140909Z
LOCATION:SALA DE REUNIÃO DAS COMISSÕES
URL:https://www.goiania.go.leg.br/sala-de-imprensa/eventos/audiencia-publi
 ca-sobre-escalonamento-de-horarios-de-funcionamento-de-empresas-publicas-e
 -privadas-em-goiania
END:VEVENT
BEGIN:VTIMEZONE
TZID:Brazil/East
X-LIC-LOCATION:Brazil/East
BEGIN:STANDARD
DTSTART;VALUE=DATE-TIME:20190216T230000
TZNAME:BRT
TZOFFSETFROM:-0200
TZOFFSETTO:-0300
END:STANDARD
END:VTIMEZONE
END:VCALENDAR
