BEGIN:VCALENDAR
VERSION:2.0
PRODID:-//Plone.org//NONSGML plone.app.event//EN
X-WR-TIMEZONE:Brazil/East
BEGIN:VEVENT
SUMMARY:AUDIÊNCIA PÚBLICA SOBRE DIA MUNDIAL CONTRA O TRABALHO INFANTIL.
DTSTART;TZID=Brazil/East;VALUE=DATE-TIME:20190612T080000
DTEND;TZID=Brazil/East;VALUE=DATE-TIME:20190612T130000
DTSTAMP;VALUE=DATE-TIME:20260420T063346Z
UID:96bfd736b1214dee968d803c78ea6153@www.goiania.go.leg.br
CONTACT:VEREADOR EMILSON PEREIRA
CREATED;VALUE=DATE-TIME:20190528T220929Z
LAST-MODIFIED;VALUE=DATE-TIME:20190611T142332Z
LOCATION:AUDITÓRIO CARLOS EURICO
URL:https://www.goiania.go.leg.br/sala-de-imprensa/eventos/audiencia-publi
 ca-sobre-dia-mundial-contra-o-trabalho-infantil
END:VEVENT
BEGIN:VTIMEZONE
TZID:Brazil/East
X-LIC-LOCATION:Brazil/East
BEGIN:STANDARD
DTSTART;VALUE=DATE-TIME:20190216T230000
TZNAME:BRT
TZOFFSETFROM:-0200
TZOFFSETTO:-0300
END:STANDARD
END:VTIMEZONE
END:VCALENDAR
