BEGIN:VCALENDAR
VERSION:2.0
PRODID:-//Plone.org//NONSGML plone.app.event//EN
X-WR-TIMEZONE:Brazil/East
BEGIN:VEVENT
SUMMARY:AUDIÊNCIA PÚBLICA SOBRE A USINA XAVANTES E OS DANOS CAUSADOS AO 
 MEIO AMBIENTE E À COMUNIDADE.
DTSTART;TZID=Brazil/East;VALUE=DATE-TIME:20211027T133000
DTEND;TZID=Brazil/East;VALUE=DATE-TIME:20211027T160000
DTSTAMP;VALUE=DATE-TIME:20260420T063307Z
UID:95fbd1c8059c48e3ac723749206d1d18@www.goiania.go.leg.br
CONTACT:VEREADOR MAURO RUBEM
CREATED;VALUE=DATE-TIME:20210927T143818Z
LAST-MODIFIED;VALUE=DATE-TIME:20211004T103330Z
LOCATION:PLENÁRIO TRAJANO GUIMARÃES
URL:https://www.goiania.go.leg.br/sala-de-imprensa/eventos/audiencia-publi
 ca-sobre-a-usina-xavantes-e-os-danos-causados-ao-meio-ambiente-e-a-comunid
 ade
END:VEVENT
BEGIN:VTIMEZONE
TZID:Brazil/East
X-LIC-LOCATION:Brazil/East
BEGIN:DAYLIGHT
DTSTART;VALUE=DATE-TIME:20211017T010000
TZNAME:BRST
TZOFFSETFROM:-0300
TZOFFSETTO:-0200
END:DAYLIGHT
END:VTIMEZONE
END:VCALENDAR
