BEGIN:VCALENDAR
VERSION:2.0
PRODID:-//Plone.org//NONSGML plone.app.event//EN
X-WR-TIMEZONE:Brazil/East
BEGIN:VEVENT
SUMMARY:AUDIÊNCIA PÚBLICA SOBRE A SITUAÇÃO DOS SERVIDORES PÚBLICOS DA
  SAÚDE DO MUNICÍPIO DE GOIÂNIA COM SUAS PERDAS DE DIREITOS E DEFASAGEM 
 SALARIAL.
DTSTART;TZID=Brazil/East;VALUE=DATE-TIME:20210611T140000
DTEND;TZID=Brazil/East;VALUE=DATE-TIME:20210611T160000
DTSTAMP;VALUE=DATE-TIME:20260420T063446Z
UID:d8d743bfbc0b465da498f896d37c6732@www.goiania.go.leg.br
CONTACT:VEREADOR MAURO RUBEM
CREATED;VALUE=DATE-TIME:20210528T123034Z
LAST-MODIFIED;VALUE=DATE-TIME:20210601T135756Z
LOCATION:PLENÁRIO TRAJANO GUIMARÃES
URL:https://www.goiania.go.leg.br/sala-de-imprensa/eventos/audiencia-publi
 ca-sobre-a-situacao-dos-servidores-publicos-da-saude-do-municipio-de-goian
 ia-com-suas-perdas-de-direitos-e-defasagem-salarial
END:VEVENT
BEGIN:VTIMEZONE
TZID:Brazil/East
X-LIC-LOCATION:Brazil/East
BEGIN:STANDARD
DTSTART;VALUE=DATE-TIME:20210220T230000
TZNAME:BRT
TZOFFSETFROM:-0200
TZOFFSETTO:-0300
END:STANDARD
END:VTIMEZONE
END:VCALENDAR
