BEGIN:VCALENDAR
VERSION:2.0
PRODID:-//Plone.org//NONSGML plone.app.event//EN
X-WR-TIMEZONE:Brazil/East
BEGIN:VEVENT
SUMMARY:AUDIÊNCIA PÚBLICA SOBRE A SITUAÇÃO DO IMAS - INSTITUTO MUNICIP
 AL DE ASSISTÊNCIA À SAÚDE DOS SERVIDORES DE GOIÂNIA.
DTSTART;TZID=Brazil/East;VALUE=DATE-TIME:20220329T133000
DTEND;TZID=Brazil/East;VALUE=DATE-TIME:20220329T160000
DTSTAMP;VALUE=DATE-TIME:20260420T063445Z
UID:32786f021b7f4d4786c14b6b7cdd79d4@www.goiania.go.leg.br
CONTACT:VEREADOR MAURO RUBEM
CREATED;VALUE=DATE-TIME:20220318T201757Z
LAST-MODIFIED;VALUE=DATE-TIME:20220318T201821Z
LOCATION:PLENÁRIO TRAJANO GUIMARÃES
URL:https://www.goiania.go.leg.br/sala-de-imprensa/eventos/audiencia-publi
 ca-sobre-a-situacao-do-imas-instituto-municipal-de-assistencia-a-saude-dos
 -servidores-de-goiania
END:VEVENT
BEGIN:VTIMEZONE
TZID:Brazil/East
X-LIC-LOCATION:Brazil/East
BEGIN:STANDARD
DTSTART;VALUE=DATE-TIME:20220219T230000
TZNAME:BRT
TZOFFSETFROM:-0200
TZOFFSETTO:-0300
END:STANDARD
END:VTIMEZONE
END:VCALENDAR
