BEGIN:VCALENDAR
VERSION:2.0
PRODID:-//Plone.org//NONSGML plone.app.event//EN
X-WR-TIMEZONE:Brazil/East
BEGIN:VEVENT
SUMMARY:AUDIÊNCIA PÚBLICA SOBRE A SEMANA MUNICIPAL DE CONSCIENTIZAÇÃO 
 SOBRE O AUTISMO.
DTSTART;TZID=Brazil/East;VALUE=DATE-TIME:20220401T140000
DTEND;TZID=Brazil/East;VALUE=DATE-TIME:20220401T170000
DTSTAMP;VALUE=DATE-TIME:20260420T051144Z
UID:c18b7680b8384347be54bd3a5bf9d43c@www.goiania.go.leg.br
CONTACT:VEREADOR WILLIAN VELOSO
CREATED;VALUE=DATE-TIME:20220114T133256Z
LAST-MODIFIED;VALUE=DATE-TIME:20220114T133307Z
LOCATION:PLENÁRIO TRAJANO GUIMARÃES
URL:https://www.goiania.go.leg.br/sala-de-imprensa/eventos/audiencia-publi
 ca-sobre-a-semana-municipal-de-conscientizacao-sobre-o-autismo-1
END:VEVENT
BEGIN:VTIMEZONE
TZID:Brazil/East
X-LIC-LOCATION:Brazil/East
BEGIN:STANDARD
DTSTART;VALUE=DATE-TIME:20220219T230000
TZNAME:BRT
TZOFFSETFROM:-0200
TZOFFSETTO:-0300
END:STANDARD
END:VTIMEZONE
END:VCALENDAR
