BEGIN:VCALENDAR
VERSION:2.0
PRODID:-//Plone.org//NONSGML plone.app.event//EN
X-WR-TIMEZONE:Brazil/East
BEGIN:VEVENT
SUMMARY:AUDIÊNCIA PÚBLICA SOBRE A PRESTAÇÃO DE CONTAS DO 3º QUADRIMES
 TRE DE 2021 DA SECRETARIA MUNICIPAL DE SAÚDE.
DTSTART;TZID=Brazil/East;VALUE=DATE-TIME:20220323T133000
DTEND;TZID=Brazil/East;VALUE=DATE-TIME:20220323T160000
DTSTAMP;VALUE=DATE-TIME:20260419T133423Z
UID:c357ae0e802d42a89f385bc771c85c5b@www.goiania.go.leg.br
CONTACT:VEREADOR MAURO RUBEM
CREATED;VALUE=DATE-TIME:20220217T102649Z
LAST-MODIFIED;VALUE=DATE-TIME:20220307T150500Z
LOCATION:PLENÁRIO TRAJANO GUIMARÃES
URL:https://www.goiania.go.leg.br/sala-de-imprensa/eventos/audiencia-publi
 ca-sobre-a-prestacao-de-contas-do-3o-quadrimestre-de-2021-da-secretaria-mu
 nicipal-de-saude
END:VEVENT
BEGIN:VTIMEZONE
TZID:Brazil/East
X-LIC-LOCATION:Brazil/East
BEGIN:STANDARD
DTSTART;VALUE=DATE-TIME:20220219T230000
TZNAME:BRT
TZOFFSETFROM:-0200
TZOFFSETTO:-0300
END:STANDARD
END:VTIMEZONE
END:VCALENDAR
